BEGIN:VCALENDAR
VERSION:2.0
PRODID:-//InvisionCommunity Events 4.7.24//EN
METHOD:PUBLISH
CALSCALE:GREGORIAN
REFRESH-INTERVAL:PT15M
X-PUBLISHED-TTL:PT15M
X-WR-CALNAME:Veranstaltungen
NAME:Veranstaltungen
BEGIN:VTIMEZONE
TZID:Europe/London
TZURL:http://tzurl.org/zoneinfo/Europe/London
X-LIC-LOCATION:Europe/London
BEGIN:DAYLIGHT
TZOFFSETFROM:+0000
TZOFFSETTO:+0100
TZNAME:BST
DTSTART:20260329T020000Z
RRULE:FREQ=YEARLY;BYMONTH=3;BYDAY=-1SU
END:DAYLIGHT
BEGIN:STANDARD
TZOFFSETFROM:+0100
TZOFFSETTO:+0000
TZNAME:GMT
DTSTART:20261025T020000Z
RRULE:FREQ=YEARLY;BYMONTH=10;BYDAY=-1SU
END:STANDARD
END:VTIMEZONE
BEGIN:VTIMEZONE
TZID:Europe/London
TZURL:http://tzurl.org/zoneinfo/Europe/London
X-LIC-LOCATION:Europe/London
BEGIN:DAYLIGHT
TZOFFSETFROM:+0000
TZOFFSETTO:+0100
TZNAME:BST
DTSTART:20250330T020000Z
RRULE:FREQ=YEARLY;BYMONTH=3;BYDAY=-1SU
END:DAYLIGHT
BEGIN:STANDARD
TZOFFSETFROM:+0100
TZOFFSETTO:+0000
TZNAME:GMT
DTSTART:20251026T020000Z
RRULE:FREQ=YEARLY;BYMONTH=10;BYDAY=-1SU
END:STANDARD
END:VTIMEZONE
BEGIN:VEVENT
SUMMARY:Schwerin (Seehof): Treffen der Psoriasis-Selbsthilfegruppe
DTSTAMP:20260214T154202Z
SEQUENCE:0
UID:1624-14-a18c6b2160842cbca53f8c1a2ed698c9@www.psoriasis-netz.de
ORGANIZER;CN="Redaktion":wir@psoriasis-netz.de
DESCRIPTION:\n	Die Schweriner Gruppe vom Deutschen Psoriasis-Bund e.V. t
	rifft sich zum Erfahrungsaustausch. \n\n\n\n	Nähere Auskunft gibt es unt
	er Telefon 0172 4432132.\n\n
DTSTART:20260424T130000Z
END:VEVENT
BEGIN:VEVENT
SUMMARY:Rostock: Informationsveranstaltung und erstes Treffen der Ps
	oriasis-Selbsthilfegruppe
DTSTAMP:20251214T105327Z
SEQUENCE:0
UID:1609-14-a18c6b2160842cbca53f8c1a2ed698c9@www.psoriasis-netz.de
ORGANIZER;CN="Redaktion":wir@psoriasis-netz.de
DESCRIPTION:\n	Der Deutschen Psoriasis-Bund e.V. will eine Regionalgru
	ppe in Rostock gründen. Zum Auftakt gibt es eine Informationsveranstaltun
	g in Zusammenarbeit mit und in der Hautklinik der Universitätsmedizin Ros
	tock.\n\n\n\n	Im Vortrag gibt es einen Überblick über das Krankheitsbil
	d und die Behandlung der Psoriasis – also stabiles Grundwissen.\n\n\n\n
		Nähere Auskünfte zur Gruppe gibt es unter Telefon 040 223399-11 oder b
	ockelmann@psoriasis-bund.de.\n\n
DTSTART:20260128T170000Z
END:VEVENT
BEGIN:VEVENT
SUMMARY:Rostock: Tagesseminar Psoriasis und Psoriasis arthritis
DTSTAMP:20250617T103318Z
SEQUENCE:0
UID:1555-14-a18c6b2160842cbca53f8c1a2ed698c9@www.psoriasis-netz.de
ORGANIZER;CN="Redaktion":wir@psoriasis-netz.de
DESCRIPTION:\n	Der Deutsche Psoriasis-Bund lädt zum Tagesseminar ein. D
	ie Veranstaltung richtet sich an Patienten\, Angehörige sowie an alle Int
	eressierten\, die sich fundiert über Psoriasis und Psoriasis arthritis in
	formieren möchten.\n\n\n\n	Geplant sind Vorträge über\n\n\n\n	\n		„Ps
	oriasis – nur eine Haut- und Gelenkerkrankung?“ – Entstehung\, Vorko
	mmen und Ausprägungsformen der Erkrankung sowie über Diagnosemöglichkei
	ten und Schweregrade\n	\n	\n		Vertiefte Informationen zu Therapiemöglichk
	eiten (äußerliche\, innerliche und physikalische Therapien) und Krankhei
	tsbewältigung.\n	\n	\n		Stationäre Rehabilitation bei Psoriasis und Psor
	iasis-Arthritis – Was erwartet einen da?\n	\n	\n		Fragen an die Experten
	 (und Antworten)\n	\n\n\n\n	Referent ist der Hautarzt Dr. Thomas Rosenbach
	.\n\n\n\n	Für das leibliche Wohl ist gesorgt.\n\n\n\n	Anmeldung zum Tages
	seminar\n\n\n\n	Maximal 30 Personen können teilnehmen. Auch deshalb sollt
	e man sich bei Interesse fix anmelden – und zwar unter Telefon 040 2233
	99-0 oder per E-Mail an info@psoriasis-bund.de.\n\n
DTSTART:20250628T080000Z
DTEND:20250628T143000Z
END:VEVENT
END:VCALENDAR
