BEGIN:VCALENDAR
VERSION:2.0
PRODID:-//InvisionCommunity Events 4.7.24//EN
METHOD:PUBLISH
CALSCALE:GREGORIAN
REFRESH-INTERVAL:PT15M
X-PUBLISHED-TTL:PT15M
X-WR-CALNAME:Termine
NAME:Termine
BEGIN:VTIMEZONE
TZID:Europe/London
TZURL:http://tzurl.org/zoneinfo/Europe/London
X-LIC-LOCATION:Europe/London
BEGIN:DAYLIGHT
TZOFFSETFROM:+0000
TZOFFSETTO:+0100
TZNAME:BST
DTSTART:20260329T020000Z
RRULE:FREQ=YEARLY;BYMONTH=3;BYDAY=-1SU
END:DAYLIGHT
BEGIN:STANDARD
TZOFFSETFROM:+0100
TZOFFSETTO:+0000
TZNAME:GMT
DTSTART:20261025T020000Z
RRULE:FREQ=YEARLY;BYMONTH=10;BYDAY=-1SU
END:STANDARD
END:VTIMEZONE
BEGIN:VTIMEZONE
TZID:Europe/London
TZURL:http://tzurl.org/zoneinfo/Europe/London
X-LIC-LOCATION:Europe/London
BEGIN:DAYLIGHT
TZOFFSETFROM:+0000
TZOFFSETTO:+0100
TZNAME:BST
DTSTART:20250330T020000Z
RRULE:FREQ=YEARLY;BYMONTH=3;BYDAY=-1SU
END:DAYLIGHT
BEGIN:STANDARD
TZOFFSETFROM:+0100
TZOFFSETTO:+0000
TZNAME:GMT
DTSTART:20251026T020000Z
RRULE:FREQ=YEARLY;BYMONTH=10;BYDAY=-1SU
END:STANDARD
END:VTIMEZONE
BEGIN:VTIMEZONE
TZID:Europe/London
TZURL:http://tzurl.org/zoneinfo/Europe/London
X-LIC-LOCATION:Europe/London
BEGIN:DAYLIGHT
TZOFFSETFROM:+0000
TZOFFSETTO:+0100
TZNAME:BST
DTSTART:20240331T020000Z
RRULE:FREQ=YEARLY;BYMONTH=3;BYDAY=-1SU
END:DAYLIGHT
BEGIN:STANDARD
TZOFFSETFROM:+0100
TZOFFSETTO:+0000
TZNAME:GMT
DTSTART:20241027T020000Z
RRULE:FREQ=YEARLY;BYMONTH=10;BYDAY=-1SU
END:STANDARD
END:VTIMEZONE
BEGIN:VTIMEZONE
TZID:Europe/London
TZURL:http://tzurl.org/zoneinfo/Europe/London
X-LIC-LOCATION:Europe/London
BEGIN:DAYLIGHT
TZOFFSETFROM:+0000
TZOFFSETTO:+0100
TZNAME:BST
DTSTART:20220327T020000Z
RRULE:FREQ=YEARLY;BYMONTH=3;BYDAY=-1SU
END:DAYLIGHT
BEGIN:STANDARD
TZOFFSETFROM:+0100
TZOFFSETTO:+0000
TZNAME:GMT
DTSTART:20221030T020000Z
RRULE:FREQ=YEARLY;BYMONTH=10;BYDAY=-1SU
END:STANDARD
END:VTIMEZONE
BEGIN:VEVENT
SUMMARY:Regensburg / Pentling: Treffen der Psoriasis-Selbsthilfegrup
	pe
DTSTAMP:20240824T145610Z
SEQUENCE:0
UID:1286-7-a18c6b2160842cbca53f8c1a2ed698c9@www.psoriasis-netz.de
ORGANIZER;CN="Redaktion":wir@psoriasis-netz.de
DESCRIPTION:\n	Die Regionalgruppe vom Deutschen Psoriasis-Bund e.V. tr
	ifft sich zum Erfahrungsaustausch.\n\n\n\n	Nähere Auskünfte gibt es unt
	er Telefon 09401 / 880522  oder per E-Mail an rg-regensburg@psoriasis-
	bund.de.\n\n
DTSTART:20260521T173000Z
END:VEVENT
BEGIN:VEVENT
SUMMARY:München: Treffen der Psoriasis-Selbsthilfegruppe
DTSTAMP:20240824T151000Z
SEQUENCE:0
UID:1291-7-a18c6b2160842cbca53f8c1a2ed698c9@www.psoriasis-netz.de
ORGANIZER;CN="Redaktion":wir@psoriasis-netz.de
DESCRIPTION:\n	Die Regionalgruppe vom Deutschen Psoriasis-Bund e.V. tr
	ifft sich zum Erfahrungsaustausch.\n\n\n\n	Nähere Auskünfte gibt es unte
	r Telefon: 0171 / 5666086 oder rg-muenchen@psoriasis-bund.de. Generell wir
	d darum gebeten\, dass man sich\, wenn möglich\, anmeldet.\n\n\n\n	Bei sc
	hlechtem Wetter findet das Treffen in der Jagdstube des Lokals statt.\n\n
DTSTART:20260521T163000Z
END:VEVENT
BEGIN:VEVENT
SUMMARY:Nürnberg: Psoriasis-Tag 2026
DTSTAMP:20220402T175501Z
SEQUENCE:0
UID:880-7-a18c6b2160842cbca53f8c1a2ed698c9@www.psoriasis-netz.de
ORGANIZER;CN="Claudia":wir@psoriasis-netz.de
DESCRIPTION:\n	Das Nordklinikum Nürnberg lädt herzlich zum Psoriasis-T
	ag 2026 ein. Die Regionalgruppe Nürnberg/Erlangen vom Deutschen Psoriasis
	-Bund e.V. ist mit einem Info-Stand vor Ort.\n\n\n\n	Thema des Tages: \"Ps
	oriasis und Psoriasis-Arthritis: Moderne Therapien und aktuelle Entwicklun
	gen\"\n\n\n\n	Referenten: Dr. Dirk Debus (Hautarzt) und Professor Axel Hue
	ber (Rheumatologe)\n\n\n\n	Um Anmeldung wird gebeten – unter Telefon 09
	11 / 483635 oder rg-nuernberg@psoriasis-bund.de\n\n\n\n	Veranstaltungsort\
	n\n	Nordklinikum\n\n	Haus 57\, Hörsaal 57.OG1.032-031\n\n	Prof.-Ernst-Nat
	han-Straße 1\n\n	90419 Nürnberg\n\n\n\n	Weitere Informationen: hier\n\n
DTSTART:20260422T150000Z
END:VEVENT
BEGIN:VEVENT
SUMMARY:Ostheim/Rhön: Gesprächsabend der Selbsthilfegruppe
DTSTAMP:20250913T112717Z
SEQUENCE:0
UID:1590-7-a18c6b2160842cbca53f8c1a2ed698c9@www.psoriasis-netz.de
ORGANIZER;CN="Redaktion":wir@psoriasis-netz.de
DESCRIPTION:\n	Die Selbsthilfegruppe Neurodermitis und Psoriasis Ostheim
	 v. d. Rhön trifft sich wieder zu einem Gesprächsabend.\n\n\n\n	Weitere 
	Informationen: bei @Selbsthilfe-Hauterkrankungen oder hier.\n\n
DTSTART:20260430T170000Z
END:VEVENT
BEGIN:VEVENT
SUMMARY:München: Gesprächskreis Psoriasis arthritis
DTSTAMP:20241124T141751Z
SEQUENCE:0
UID:1399-7-a18c6b2160842cbca53f8c1a2ed698c9@www.psoriasis-netz.de
ORGANIZER;CN="Redaktion":wir@psoriasis-netz.de
DESCRIPTION:\n	Alle zwei Monate trifft sich der Gesprächskreis Psoriasi
	s arthritis der Deutschen Rheuma-Liga München. Wer sich das dauerhaft in 
	den Kalender schreiben will: Es ist der 2. Montag in geraden Monaten.\n\n\
	n\n	\n		E-Mail: kontakt@rheuma-liga-muenchen.de\n	\n	\n		Telefon: 089 - 30
	9542\n	\n\n\n\n	 \n\n
DTSTART:20260413T160000Z
DTEND:20260413T180000Z
END:VEVENT
BEGIN:VEVENT
SUMMARY:München: „Gesundheit\, Krankheit\, Krankenkassen und Geld
	“
DTSTAMP:20260316T120856Z
SEQUENCE:0
UID:1629-7-a18c6b2160842cbca53f8c1a2ed698c9@www.psoriasis-netz.de
ORGANIZER;CN="Redaktion":wir@psoriasis-netz.de
DESCRIPTION:\n	Der Gesundheitsladen München e.V. lädt zu einem Vortra
	g zum Thema \"Gesundheit\, Krankheit\, Krankenkassen und Geld - Rechte und
	 Möglichkeiten für gesetzlich versicherte Personen(-gruppen) mit geringe
	n finanziellen Mitteln - im Gesundheitsladen München\" ein.\n\n\n\n	Um An
	meldung wird gebeten.\n\n\n\n	Kosten: 4 Euro\, Ermäßigung ist möglich\n
	\n\n\n	Anmelden könnt Ihr Euch per Mail an mail@gl-m.de oder per Telefon
	 unter 089/77 25 65.\n\n
DTSTART:20260326T160000Z
END:VEVENT
BEGIN:VEVENT
SUMMARY:München: „Elektronische Patientenakte für alle“
DTSTAMP:20250214T104646Z
SEQUENCE:0
UID:1490-7-a18c6b2160842cbca53f8c1a2ed698c9@www.psoriasis-netz.de
ORGANIZER;CN="Redaktion":wir@psoriasis-netz.de
DESCRIPTION:\n	Der Gesundheitsladen München e.V. lädt zu einem Vortra
	g zum Thema \"Elektronische Patientenakte\" ein.\n\n\n\n	Um Anmeldung wird
	 gebeten.\n\n\n\n	Kosten: 4 Euro\, Ermäßigung ist möglich\n\n\n\n	Anmel
	den könnt Ihr Euch per Mail an mail@gl-m.de oder per Telefon unter 089/
	77 25 65.\n\n
DTSTART:20260521T150000Z
END:VEVENT
BEGIN:VEVENT
SUMMARY:Nürnberg / Erlangen: Treffen der Selbsthilfegruppe
DTSTAMP:20241021T112416Z
SEQUENCE:0
UID:1369-7-a18c6b2160842cbca53f8c1a2ed698c9@www.psoriasis-netz.de
ORGANIZER;CN="Redaktion":wir@psoriasis-netz.de
DESCRIPTION:\n	Die Regionalgruppe vom Deutschen Psoriasis-Bund e.V. tr
	ifft sich zum Erfahrungsaustausch.\n\n\n\n	Nähere Auskunft gibt es unter 
	Telefon: 0911 / 483635 oder per Mail an rg-nuernberg@psoriasis-bund.de.\n\
	n
DTSTART:20260305T170000Z
END:VEVENT
BEGIN:VEVENT
SUMMARY:München: Info-Tag im Krankenhaus für Naturheilweisen
DTSTAMP:20260107T104241Z
SEQUENCE:0
UID:1611-7-a18c6b2160842cbca53f8c1a2ed698c9@www.psoriasis-netz.de
ORGANIZER;CN="Redaktion":wir@psoriasis-netz.de
DESCRIPTION:\n	Das KfN lädt für den 31. Januar 2026 zu einem Info-Tag 
	ein. Die Veranstaltung soll zeigen\, wie naturheilkundliche und schulmediz
	inische Ansätze Menschen mit chronischen Erkrankungen im Alltag unterstü
	tzen können.\n\n\n\n	Diese Vorträge sind geplant:\n\n\n\n	\n		Naturheilk
	undliche Behandlungsoptionen bei chronischen Krankheiten\n	\n	\n		Atem-\, 
	Bewegungs- und Entspannungsübungen in der Naturheilkunde\n	\n	\n		Ernähr
	ung als wichtige Säule einer gesunden Lebensführung\n	\n	\n		Naturheilku
	ndliche Behandlungen für Zuhause\n	\n\n\n\n	Weitere Informationen auch zu
	r Anmeldung gibt es hier.\n\n
DTSTART:20260131T083000Z
DTEND:20260131T121500Z
END:VEVENT
BEGIN:VEVENT
SUMMARY:Treffen der Selbsthilfegruppe Nürnberg / Erlangen online
DTSTAMP:20241225T205511Z
SEQUENCE:0
UID:1442-7-a18c6b2160842cbca53f8c1a2ed698c9@www.psoriasis-netz.de
ORGANIZER;CN="Redaktion":wir@psoriasis-netz.de
DESCRIPTION:\n	Die Regionalgruppe vom Deutschen Psoriasis-Bund e.V. tr
	ifft sich online zum Erfahrungsaustausch.\n\n\n\n	Den Link zur Online-Konf
	erenz gibt es nach der Anmeldung unter Telefon: 0911 / 483635 oder per Mai
	l an rg-nuernberg@psoriasis-bund.de.\n\n
DTSTART:20260115T173000Z
END:VEVENT
BEGIN:VEVENT
SUMMARY:Erlanger Psoriasistag 2025
DTSTAMP:20251023T175050Z
SEQUENCE:0
UID:1604-7-a18c6b2160842cbca53f8c1a2ed698c9@www.psoriasis-netz.de
ORGANIZER;CN="1sam.in.erlangen":wir@psoriasis-netz.de
DESCRIPTION:\n	Thema: Schuppenflechte im Visier\n\n\n\n	Eine Information
	sveranstaltung zur Psoriasis für Betroffene und Interessierte\n\n\n\n	Gen
	auer Veranstaltungsort:\n\n	Universitätsklinik Erlangen\n\n	Hörsäle Med
	izin\n\n	Kleiner Hörsaal\n\n	Ulmenweg 18\n\n	91054 Erlangen\n\n\n\n	Weite
	re Informationen: DZI_Psoriasistag_06.11.2025_V02.pdf\n\n
DTSTART:20251106T163000Z
DTEND:20251106T180000Z
END:VEVENT
BEGIN:VEVENT
SUMMARY:Erlangen: Psoriasistag
DTSTAMP:20241017T100515Z
SEQUENCE:0
UID:1329-7-a18c6b2160842cbca53f8c1a2ed698c9@www.psoriasis-netz.de
ORGANIZER;CN="Redaktion":wir@psoriasis-netz.de
DESCRIPTION:\n	Professor Michael Sticherling\, stellvertretender Direkto
	r der Hautklinik und Sprecher des Psoriasis-Zentrums des Uniklinikums Erla
	ngen\, erklärt in Kurzvorträgen gemeinsam mit weiteren Expertinnen und -
	experten die verschiedenen Aspekte der Schuppenflechte. Betroffene und Int
	eressierte haben dabei die Gelegenheit\, konkrete Fragen an die Referentin
	nen und Referenten zu stellen.\n\n\n\n	Die Veranstaltung richtet sich an f
	ür Patientinnen und Patienten\, ihre Angehörigen sowie Interessierte.\n\
	n\n\n	Hörsaal Östliche Stadtmauerstraße 11 in Erlangen statt.\n\n\n\n	B
	eim Erlanger Psoriasistag steht neben den Kurzvorträgen der Spezialistinn
	en und Spezialisten der Hautklinik des Uniklinikums Erlangen vor allem ein
	e gemeinsame Gesprächsrunde zur Erkrankung auf dem Programm.\n\n\n\n	Die 
	Veranstaltung ist ein Gemeinschaftswerk von dem Deutschen Zentrum Immunthe
	rapie des Uniklinikums Erlangen sowie dem Deutschen Psoriasis Bund e. V. u
	nd dem Regionalen Psoriasis Netzwerk Nordbayern e. V.\n\n\n\n	Eine Anmeldu
	ng ist nicht nötig. Einfach hingehen!\n\n\n\n	Weitere Informationen gibt 
	es auf der Internetseite der Uni.\n\n
DTSTART:20241019T130000Z
DTEND:20241019T150000Z
END:VEVENT
BEGIN:VEVENT
SUMMARY:Erlangen: Wenn die Haut wie Feuer brennt
DTSTAMP:20240919T185229Z
SEQUENCE:0
UID:1310-7-a18c6b2160842cbca53f8c1a2ed698c9@www.psoriasis-netz.de
ORGANIZER;CN="Redaktion":wir@psoriasis-netz.de
DESCRIPTION:\n	Das Uniklinikum Erlangen bietet in seiner Bürgervorlesu
	ng einen Vortrag mit dem Titel \"Wenn die Haut wie Feuer brennt\" an. Der 
	Eintritt ist frei.\n\n\n\n	Referentin: Professorin C. Berking\, Direktor
	in der Hautklinik\n\n\n\n	Weitere Auskünfte gibt es unter Telefon 09131 
	85-40555\, Informationen auf der Internetseite des Klinikums.\n\n\n\n	Die 
	Vorträge der Reihe \"Bürgervorlesung\" werden vom Klinikum später auch 
	in einem Videoportal zur Verfügung gestellt.\n\n
DTSTART:20241104T171500Z
END:VEVENT
BEGIN:VEVENT
SUMMARY:Nürnberg: \"Der belogene Patient – Von Heilpraktikern\, 
	Homöopathen und Scharlatanen\"
DTSTAMP:20220402T175212Z
SEQUENCE:0
UID:879-7-a18c6b2160842cbca53f8c1a2ed698c9@www.psoriasis-netz.de
ORGANIZER;CN="Claudia":wir@psoriasis-netz.de
DESCRIPTION:\n\n	In einer Vortragsreihe wird \"Vom Reiz des Übersinnlic
	hen – Paranormales und Skepsis\" gesprochen und diskutiert.\n\n\n\n	Der 
	erste Teil der Reihe heißt: \"Der belogene Patient – Von Heilpraktikern
	\, Homöopathen und Scharlatanen\".\n\n\n\n	\n		Eintritt: 8 Euro für die 
	einzelne Veranstaltung\, 26 Euro für die ganze Reihe mit vier Abenden\n	\
	n	\n		Weitere Informationen: hier über die einzelne Veranstaltung | hier
	 über die ganze Reihe\n	\n	\n		Anmeldung: hier für die einzelne Veransta
	ltung | hier für die gesamte Reihe\n	\n\n\n
DTSTART:20220405T173000Z
END:VEVENT
END:VCALENDAR
